BEGIN:VCALENDAR
VERSION:2.0
PRODID:-//Dorfgemeinschaft Mörse - ECPv6.15.20//NONSGML v1.0//EN
CALSCALE:GREGORIAN
METHOD:PUBLISH
X-WR-CALNAME:Dorfgemeinschaft Mörse
X-ORIGINAL-URL:https://www.dorfgemeinschaft-moerse.de
X-WR-CALDESC:Veranstaltungen für Dorfgemeinschaft Mörse
REFRESH-INTERVAL;VALUE=DURATION:PT1H
X-Robots-Tag:noindex
X-PUBLISHED-TTL:PT1H
BEGIN:VTIMEZONE
TZID:Europe/Berlin
BEGIN:DAYLIGHT
TZOFFSETFROM:+0100
TZOFFSETTO:+0200
TZNAME:CEST
DTSTART:20250330T010000
END:DAYLIGHT
BEGIN:STANDARD
TZOFFSETFROM:+0200
TZOFFSETTO:+0100
TZNAME:CET
DTSTART:20251026T010000
END:STANDARD
BEGIN:DAYLIGHT
TZOFFSETFROM:+0100
TZOFFSETTO:+0200
TZNAME:CEST
DTSTART:20260329T010000
END:DAYLIGHT
BEGIN:STANDARD
TZOFFSETFROM:+0200
TZOFFSETTO:+0100
TZNAME:CET
DTSTART:20261025T010000
END:STANDARD
BEGIN:DAYLIGHT
TZOFFSETFROM:+0100
TZOFFSETTO:+0200
TZNAME:CEST
DTSTART:20270328T010000
END:DAYLIGHT
BEGIN:STANDARD
TZOFFSETFROM:+0200
TZOFFSETTO:+0100
TZNAME:CET
DTSTART:20271031T010000
END:STANDARD
END:VTIMEZONE
BEGIN:VEVENT
DTSTART;TZID=Europe/Berlin:20260319T163000
DTEND;TZID=Europe/Berlin:20260319T180000
DTSTAMP:20260422T111315
CREATED:20260228T213659Z
LAST-MODIFIED:20260228T213659Z
UID:754-1773937800-1773943200@www.dorfgemeinschaft-moerse.de
SUMMARY:Vortrag über bindungsorientierte Erziehung
DESCRIPTION:Kennst du das?\nAnziehen wird zum Drama\nDie Übergabe in der Kita ist Chaos\nSchlafen ist ein Kampf\nund Wutanfälle machen dich hilflos\nIm Vortrag über bindungsorientierte Erziehung\nbekommst du wissenschaftlich fundiertes\npsychologisches Wissen & sofort anwendbare\nSchritte\, damit du in stressigen Momenten\nhandlungsfähig bleibst – ohne Strafen\, Drohungen\noder endlose Diskussionen. \nWAS DICH ERWARTET\nWissen\, warum etwas in deinem Kind (0 – 6J) passiert\npraktische auf Euch anwendbare Beispiele \n10 Alltagstools (inkl. typischer\nFallen + Alternativen)Ort: Gemeindehaus Mörse\,\nEin einfacher Handlungsplan\nfür Zuhause: Was tun – Schritt für Schritt \nRAHMENDATEN\nVortrag mit Fragestunde\nDauer: 90 Minuten\nUhrzeit: 16:30–18:00 Uhr\nDatum: 19.03.2026\nim Dorfe 7\, 38442 Mörse \nKosten: 15€ \nJETZT ANMELDEN\n•QR-Code scannen\n•Anmeldung ausfüllen\n•Teilnahmegebühr per Paypal / Überweisung\nÜBER MICH\nFelix Kretschmer-Pietralla\nM.Sc. Psychologie | Systemischer Coach & Trainer \n 
URL:https://www.dorfgemeinschaft-moerse.de/event/vortrag-ueber-bindungsorientierte-erziehung/
LOCATION:Gemeindehaus\, Im Dorfe 7\, Wolfsburg\, Niedersachsen\, 38442\, Germany
ATTACH;FMTTYPE=application/pdf:https://www.dorfgemeinschaft-moerse.de/wp-content/uploads/2026/02/Flyer-Bindungs-und-Beduerfnisorientierte-Erziehung.pdf
END:VEVENT
END:VCALENDAR