BEGIN:VCALENDAR
VERSION:2.0
PRODID:-//Dorfgemeinschaft Mörse - ECPv6.15.20//NONSGML v1.0//EN
CALSCALE:GREGORIAN
METHOD:PUBLISH
X-ORIGINAL-URL:https://www.dorfgemeinschaft-moerse.de
X-WR-CALDESC:Veranstaltungen für Dorfgemeinschaft Mörse
REFRESH-INTERVAL;VALUE=DURATION:PT1H
X-Robots-Tag:noindex
X-PUBLISHED-TTL:PT1H
BEGIN:VTIMEZONE
TZID:Europe/Berlin
BEGIN:DAYLIGHT
TZOFFSETFROM:+0100
TZOFFSETTO:+0200
TZNAME:CEST
DTSTART:20250330T010000
END:DAYLIGHT
BEGIN:STANDARD
TZOFFSETFROM:+0200
TZOFFSETTO:+0100
TZNAME:CET
DTSTART:20251026T010000
END:STANDARD
BEGIN:DAYLIGHT
TZOFFSETFROM:+0100
TZOFFSETTO:+0200
TZNAME:CEST
DTSTART:20260329T010000
END:DAYLIGHT
BEGIN:STANDARD
TZOFFSETFROM:+0200
TZOFFSETTO:+0100
TZNAME:CET
DTSTART:20261025T010000
END:STANDARD
BEGIN:DAYLIGHT
TZOFFSETFROM:+0100
TZOFFSETTO:+0200
TZNAME:CEST
DTSTART:20270328T010000
END:DAYLIGHT
BEGIN:STANDARD
TZOFFSETFROM:+0200
TZOFFSETTO:+0100
TZNAME:CET
DTSTART:20271031T010000
END:STANDARD
END:VTIMEZONE
BEGIN:VEVENT
DTSTART;TZID=Europe/Berlin:20260228T153000
DTEND;TZID=Europe/Berlin:20260228T170000
DTSTAMP:20260423T185154
CREATED:20260127T153639Z
LAST-MODIFIED:20260228T082041Z
UID:745-1772292600-1772298000@www.dorfgemeinschaft-moerse.de
SUMMARY:Kopfweiden schneiteln an der Mühlenriede - abgesagt wegen Wasser
DESCRIPTION:Kopfweiden schneiteln an der Mühlenriede\, 14. und 28.02.2025\, 15:30 – 16:30 Uhr \nHallo und guten Tag allerseits\,\nwir bitten Sie herzlich um Unterstützung bei einer Aktion an der Mühlenriede. Entlang der Mühlenriede haben wir Kopfweiden gesetzt und über 20 Jahre gepflegt. Die Kopfweiden entlang der Riede werden inzwischen von der Forstverwaltung unterhalten und gepflegt. Lediglich die Weiden am Stichweg zum Wasseruntersuchungsplatz hin werden von uns unterhalten. Mit den frischen Trieben der Weiden machen wir Aktionen mit Kindern am Wasseruntersuchungsplatz\, der vom BUND und uns mitgestaltet und unterhalten wird. Wir machen auch in diesem Jahr eine Aktion zum schneiteln der Kopfweiden. Dazu benötigen wir noch einige Helfer. \nManfred Wenst vom BUND und ich werden mit der Motorsäge die Schneidearbeiten an den Bäumen vornehmen. Die dickeren Äste werden zu Brennholz gestapelt und dünnere Äste in den Wald verbracht. Genau dazu suchen wir noch ein paar fleißige Hände. Um diese Jahreszeit kann es vor Ort auch mal matschig sein. Also bitte festes Schuhwerk und Handschuhe. Anschließend gibt es Kaltgetränke und heißen Apfelpunsch für Klein und Groß. \nTreffpunkt ist der Wasseruntersuchungsplatz am Samstag\, 14. und 28.02.2025\, jeweils 15:30 Uhr\nKoordinaten 52\,38887° N\, 10\,72266° O\, parken am Schützenhaus.
URL:https://www.dorfgemeinschaft-moerse.de/event/kopfweiden-schneiteln-an-der-muehlenriede/
LOCATION:Gewässererlebnisplatz\, Wolfsburg\, Niedersachsen\, 38442\, Germany
ATTACH;FMTTYPE=image/jpeg:https://www.dorfgemeinschaft-moerse.de/wp-content/uploads/2026/01/26-01-27-16-22-31-3.jpg
END:VEVENT
END:VCALENDAR